BEGIN:VCALENDAR
VERSION:2.0
METHOD:PUBLISH
PRODID:Wuppertal-Live ICal v9.0 R38/39
BEGIN:VEVENT
CLASS:PUBLIC
DESCRIPTION:weitere Termininfos unter https://www.solingen-live.de/ical/618
 353 
DTEND;TZID=Europe/Berlin:20260529T170000
DTSTAMP:20260424T171047Z
DTSTART;TZID=Europe/Berlin:20260529T150000
LOCATION:Ohligs\, - -\, 42697 Solingen
PRIORITY:5
SEQUENCE:0
SUMMARY:Brick · Kiklas · Yearone · Xsistanz · Kippenhaus -- Die Wohnzim
 mer Bühne / Dürpelfest 2026
TRANSP:OPAQUE
UID:618353:www.solingen-live.de
URL:https://www.solingen-live.de/ical/618353
END:VEVENT
END:VCALENDAR
