BEGIN:VCALENDAR
VERSION:2.0
METHOD:PUBLISH
PRODID:Wuppertal-Live ICal v9.0 R38/39
BEGIN:VEVENT
CLASS:PUBLIC
DESCRIPTION:weitere Termininfos und Ticketbuchung unter https://www.solinge
 n-live.de/ical/633306 
DTEND;TZID=Europe/Berlin:20260829T210000
DTSTAMP:20260422T090300Z
DTSTART;TZID=Europe/Berlin:20260829T190000
LOCATION:Schloss Burg\, Schlossplatz 2\, 42659 Solingen
PRIORITY:5
SEQUENCE:0
SUMMARY:Batnight
TRANSP:OPAQUE
UID:633306:www.solingen-live.de
URL:https://www.solingen-live.de/ical/633306
END:VEVENT
END:VCALENDAR
