BEGIN:VCALENDAR
VERSION:2.0
METHOD:PUBLISH
PRODID:Wuppertal-Live ICal v9.0 R38/39
BEGIN:VEVENT
CLASS:PUBLIC
DESCRIPTION:weitere Termininfos und Ticketbuchung unter https://www.wuppert
 al-live.de/ical/633312 
DTEND;TZID=Europe/Berlin:20260430T230000
DTSTAMP:20260423T100945Z
DTSTART;TZID=Europe/Berlin:20260430T210000
LOCATION:Barmer Bahnhof\, Hans-Dietrich-Genscher-Platz 2\, 42283 Wuppertal
PRIORITY:5
SEQUENCE:0
SUMMARY:Tanz in den Mai
TRANSP:OPAQUE
UID:633312:www.wuppertal-live.de
URL:https://www.wuppertal-live.de/ical/633312
END:VEVENT
END:VCALENDAR
