BEGIN:VCALENDAR
VERSION:2.0
METHOD:PUBLISH
PRODID:Wuppertal-Live ICal v9.0 R38/39
BEGIN:VEVENT
CLASS:PUBLIC
DESCRIPTION:weitere Termininfos unter https://www.solingen-live.de/ical/634
 923 
DTEND;TZID=Europe/Berlin:20260731T220000
DTSTAMP:20260422T095216Z
DTSTART;TZID=Europe/Berlin:20260731T193000
LOCATION:Cobra\, Merscheider Str. 77-79\, 42699 Solingen
PRIORITY:5
SEQUENCE:0
SUMMARY:JumpingBlue
TRANSP:OPAQUE
UID:634923:www.solingen-live.de
URL:https://www.solingen-live.de/ical/634923
END:VEVENT
END:VCALENDAR
