BEGIN:VCALENDAR
VERSION:2.0
METHOD:PUBLISH
PRODID:Wuppertal-Live ICal v9.0 R38/39
BEGIN:VEVENT
CLASS:PUBLIC
DESCRIPTION:weitere Termininfos und Ticketbuchung unter https://www.solinge
 n-live.de/ical/635065 
DTEND;TZID=Europe/Berlin:20260528T220000
DTSTAMP:20260422T095344Z
DTSTART;TZID=Europe/Berlin:20260528T200000
LOCATION:Cobra\, Merscheider Str. 77-79\, 42699 Solingen
PRIORITY:5
SEQUENCE:0
SUMMARY:Solingen jazzt feat. Tim Hepburn
TRANSP:OPAQUE
UID:635065:www.solingen-live.de
URL:https://www.solingen-live.de/ical/635065
END:VEVENT
END:VCALENDAR
