BEGIN:VCALENDAR
VERSION:2.0
METHOD:PUBLISH
PRODID:Wuppertal-Live ICal v9.0 R38/39
BEGIN:VEVENT
CLASS:PUBLIC
DESCRIPTION:weitere Termininfos unter https://www.solingen-live.de/ical/635
 066 
DTEND;TZID=Europe/Berlin:20260814T213000
DTSTAMP:20260422T102128Z
DTSTART;TZID=Europe/Berlin:20260814T193000
LOCATION:Cobra\, Merscheider Str. 77-79\, 42699 Solingen
PRIORITY:5
SEQUENCE:0
SUMMARY:Doc Spoon &amp\; Guests
TRANSP:OPAQUE
UID:635066:www.solingen-live.de
URL:https://www.solingen-live.de/ical/635066
END:VEVENT
END:VCALENDAR
