BEGIN:VCALENDAR
VERSION:2.0
METHOD:PUBLISH
PRODID:Wuppertal-Live ICal v9.0 R38/39
BEGIN:VEVENT
CLASS:PUBLIC
DESCRIPTION:weitere Termininfos und Ticketbuchung unter https://www.solinge
 n-live.de/ical/635496 
DTEND;TZID=Europe/Berlin:20260512T170000
DTSTAMP:20260424T125731Z
DTSTART;TZID=Europe/Berlin:20260512T150000
LOCATION:Cobra\, Merscheider Str. 77-79\, 42699 Solingen
PRIORITY:5
SEQUENCE:0
SUMMARY:Es hätte schlimmer kommen können
TRANSP:OPAQUE
UID:635496:www.solingen-live.de
URL:https://www.solingen-live.de/ical/635496
END:VEVENT
END:VCALENDAR
